BEGIN:VCALENDAR
VERSION:2.0
PRODID:-//Montgomery Township Senior Citizens, Inc. - ECPv6.1.3//NONSGML v1.0//EN
CALSCALE:GREGORIAN
METHOD:PUBLISH
X-ORIGINAL-URL:https://montgomerysc.org
X-WR-CALDESC:Events for Montgomery Township Senior Citizens, Inc.
REFRESH-INTERVAL;VALUE=DURATION:PT1H
X-Robots-Tag:noindex
X-PUBLISHED-TTL:PT1H
BEGIN:VTIMEZONE
TZID:America/New_York
BEGIN:DAYLIGHT
TZOFFSETFROM:-0500
TZOFFSETTO:-0400
TZNAME:EDT
DTSTART:20240310T070000
END:DAYLIGHT
BEGIN:STANDARD
TZOFFSETFROM:-0400
TZOFFSETTO:-0500
TZNAME:EST
DTSTART:20241103T060000
END:STANDARD
END:VTIMEZONE
BEGIN:VEVENT
DTSTART;TZID=America/New_York:20240208T130000
DTEND;TZID=America/New_York:20240208T150000
DTSTAMP:20260423T081714
CREATED:20230113T192754Z
LAST-MODIFIED:20240206T164300Z
UID:297-1707397200-1707404400@montgomerysc.org
SUMMARY:February General Meeting (Thursday\, February 8\, 2024)
DESCRIPTION:Dr. Sperling\, a urologist\, is our guest speaker. He will be talking about the diagnosis and treatments of issues relating to the urinary tract that includes the bladder\, prostate\, kidney\, ureters and urethra.
URL:https://montgomerysc.org/event/february-general-meeting/
LOCATION:Montgomery Senior Center (Otto Kaufman Community Center)\, 356 Skillman Rd\, Skillman\, NJ\, 08558
CATEGORIES:General Meeting
ORGANIZER;CN="Montgomery%20Senior%20Citizens":MAILTO:montgomeryseniorcitizens@gmail.com
END:VEVENT
END:VCALENDAR